Package: mitoClone2 Version: 1.12.0 Command: /home/biocbuild/R/R/bin/R CMD build --keep-empty-dirs --no-resave-data mitoClone2 StartedAt: 2024-11-20 02:10:36 -0000 (Wed, 20 Nov 2024) EndedAt: 2024-11-20 02:16:39 -0000 (Wed, 20 Nov 2024) EllapsedTime: 363.5 seconds RetCode: 0 Status: OK PackageFile: mitoClone2_1.12.0.tar.gz PackageFileSize: 1.268 MiB