Package: mitch Version: 1.18.4 Command: /home/biocbuild/R/R/bin/R CMD check --install=check:mitch.install-out.txt --library=/home/biocbuild/R/R/site-library --no-vignettes --timings mitch_1.18.4.tar.gz StartedAt: 2025-02-04 08:53:45 -0000 (Tue, 04 Feb 2025) EndedAt: 2025-02-04 08:58:14 -0000 (Tue, 04 Feb 2025) EllapsedTime: 269.4 seconds RetCode: 0 Status: OK CheckDir: mitch.Rcheck Warnings: 0