Package: mitch Version: 1.18.4 Command: /home/biocbuild/R/R/bin/R CMD build --keep-empty-dirs --no-resave-data mitch StartedAt: 2025-02-04 01:01:52 -0000 (Tue, 04 Feb 2025) EndedAt: 2025-02-04 01:08:17 -0000 (Tue, 04 Feb 2025) EllapsedTime: 384.2 seconds RetCode: 0 Status: OK PackageFile: mitch_1.18.4.tar.gz PackageFileSize: 997.9 KiB