Package: mitch Version: 1.18.4 Command: rm -rf mitch.buildbin-libdir && mkdir mitch.buildbin-libdir && F:\biocbuild\bbs-3.20-bioc\R\bin\R.exe CMD INSTALL --build --library=mitch.buildbin-libdir mitch_1.18.4.tar.gz StartedAt: 2025-01-28 08:35:32 -0500 (Tue, 28 Jan 2025) EndedAt: 2025-01-28 08:35:47 -0500 (Tue, 28 Jan 2025) EllapsedTime: 14.6 seconds RetCode: 0 Status: OK PackageFile: mitch_1.18.4.zip PackageFileSize: 1.099 MiB