Package: mitch Version: 1.18.4 Command: /Library/Frameworks/R.framework/Resources/bin/R CMD build --keep-empty-dirs --no-resave-data mitch StartedAt: 2025-01-27 20:34:42 -0500 (Mon, 27 Jan 2025) EndedAt: 2025-01-27 20:47:20 -0500 (Mon, 27 Jan 2025) EllapsedTime: 757.8 seconds RetCode: 0 Status: OK PackageFile: mitch_1.18.4.tar.gz PackageFileSize: 995.7 KiB