Package: mitch Version: 1.18.4 Command: /Library/Frameworks/R.framework/Resources/bin/R CMD INSTALL mitch StartedAt: 2025-03-31 16:40:35 -0400 (Mon, 31 Mar 2025) EndedAt: 2025-03-31 16:40:42 -0400 (Mon, 31 Mar 2025) EllapsedTime: 7.1 seconds RetCode: 0 Status: OK