Package: mistyR Version: 1.14.0 Command: /home/biocbuild/bbs-3.20-bioc/R/bin/R CMD check --install=check:mistyR.install-out.txt --library=/home/biocbuild/bbs-3.20-bioc/R/site-library --timings mistyR_1.14.0.tar.gz StartedAt: 2025-04-01 00:01:00 -0400 (Tue, 01 Apr 2025) EndedAt: 2025-04-01 00:13:44 -0400 (Tue, 01 Apr 2025) EllapsedTime: 764.7 seconds RetCode: 0 Status: OK CheckDir: mistyR.Rcheck Warnings: 0