Package: missRows Version: 1.26.0 Command: /home/biocbuild/R/R/bin/R CMD INSTALL missRows StartedAt: 2025-01-27 21:14:12 -0000 (Mon, 27 Jan 2025) EndedAt: 2025-01-27 21:14:47 -0000 (Mon, 27 Jan 2025) EllapsedTime: 34.3 seconds RetCode: 0 Status: OK