Package: missRows Version: 1.26.0 Command: F:\biocbuild\bbs-3.20-bioc\R\bin\R.exe CMD INSTALL missRows StartedAt: 2025-01-27 16:07:40 -0500 (Mon, 27 Jan 2025) EndedAt: 2025-01-27 16:08:22 -0500 (Mon, 27 Jan 2025) EllapsedTime: 41.9 seconds RetCode: 0 Status: OK