Package: missRows Version: 1.26.0 Command: /home/biocbuild/bbs-3.20-bioc/R/bin/R CMD INSTALL missRows StartedAt: 2025-02-03 15:22:32 -0500 (Mon, 03 Feb 2025) EndedAt: 2025-02-03 15:22:58 -0500 (Mon, 03 Feb 2025) EllapsedTime: 25.7 seconds RetCode: 0 Status: OK