Package: missRows Version: 1.26.0 Command: /home/biocbuild/bbs-3.20-bioc/R/bin/R CMD build --keep-empty-dirs --no-resave-data --md5 missRows StartedAt: 2025-01-27 19:00:45 -0500 (Mon, 27 Jan 2025) EndedAt: 2025-01-27 19:02:19 -0500 (Mon, 27 Jan 2025) EllapsedTime: 94.1 seconds RetCode: 0 Status: OK PackageFile: missRows_1.26.0.tar.gz PackageFileSize: 610.3 KiB