Package: missRows Version: 1.26.0 Command: /Library/Frameworks/R.framework/Resources/bin/R CMD INSTALL missRows StartedAt: 2025-01-27 15:25:00 -0500 (Mon, 27 Jan 2025) EndedAt: 2025-01-27 15:26:05 -0500 (Mon, 27 Jan 2025) EllapsedTime: 65.5 seconds RetCode: 0 Status: OK