Package: missRows Version: 1.26.0 Command: /Library/Frameworks/R.framework/Resources/bin/R CMD build --keep-empty-dirs --no-resave-data missRows StartedAt: 2025-01-28 03:26:39 -0500 (Tue, 28 Jan 2025) EndedAt: 2025-01-28 03:28:59 -0500 (Tue, 28 Jan 2025) EllapsedTime: 140.7 seconds RetCode: 0 Status: OK PackageFile: missRows_1.26.0.tar.gz PackageFileSize: 608.6 KiB