Package: missMethyl Version: 1.40.0 Command: /home/biocbuild/R/R/bin/R CMD INSTALL missMethyl StartedAt: 2025-01-27 22:03:28 -0000 (Mon, 27 Jan 2025) EndedAt: 2025-01-27 22:09:27 -0000 (Mon, 27 Jan 2025) EllapsedTime: 359.2 seconds RetCode: 0 Status: OK