Package: mirTarRnaSeq Version: 1.14.0 Command: rm -rf mirTarRnaSeq.buildbin-libdir && mkdir mirTarRnaSeq.buildbin-libdir && /Users/biocbuild/BBS/utils/build-universal.sh mirTarRnaSeq_1.14.0.tar.gz /Library/Frameworks/R.framework/Resources/bin/R mirTarRnaSeq.buildbin-libdir StartedAt: 2025-02-04 13:27:31 -0500 (Tue, 04 Feb 2025) EndedAt: 2025-02-04 13:28:04 -0500 (Tue, 04 Feb 2025) EllapsedTime: 32.4 seconds RetCode: 0 Status: OK PackageFile: mirTarRnaSeq_1.14.0.tgz PackageFileSize: 4.638 MiB