Package: mirIntegrator Version: 1.36.0 Command: /home/biocbuild/R/R/bin/R CMD INSTALL mirIntegrator StartedAt: 2025-01-30 20:20:13 -0000 (Thu, 30 Jan 2025) EndedAt: 2025-01-30 20:20:34 -0000 (Thu, 30 Jan 2025) EllapsedTime: 20.4 seconds RetCode: 0 Status: OK