Package: mirIntegrator Version: 1.36.0 Command: /home/biocbuild/R/R/bin/R CMD build --keep-empty-dirs --no-resave-data mirIntegrator StartedAt: 2025-01-31 00:57:41 -0000 (Fri, 31 Jan 2025) EndedAt: 2025-01-31 00:58:51 -0000 (Fri, 31 Jan 2025) EllapsedTime: 70.0 seconds RetCode: 0 Status: OK PackageFile: mirIntegrator_1.36.0.tar.gz PackageFileSize: 1.799 MiB