Package: mirIntegrator Version: 1.36.0 Command: /home/biocbuild/bbs-3.20-bioc/R/bin/R CMD build --keep-empty-dirs --no-resave-data --md5 mirIntegrator StartedAt: 2025-02-03 18:15:13 -0500 (Mon, 03 Feb 2025) EndedAt: 2025-02-03 18:16:19 -0500 (Mon, 03 Feb 2025) EllapsedTime: 66.1 seconds RetCode: 0 Status: OK PackageFile: mirIntegrator_1.36.0.tar.gz PackageFileSize: 1.809 MiB