Package: mirIntegrator Version: 1.36.0 Command: /Library/Frameworks/R.framework/Resources/bin/R CMD INSTALL mirIntegrator StartedAt: 2025-01-30 15:28:05 -0500 (Thu, 30 Jan 2025) EndedAt: 2025-01-30 15:28:41 -0500 (Thu, 30 Jan 2025) EllapsedTime: 36.3 seconds RetCode: 0 Status: OK