Package: mirIntegrator Version: 1.36.0 Command: /Library/Frameworks/R.framework/Resources/bin/R CMD build --keep-empty-dirs --no-resave-data mirIntegrator StartedAt: 2025-01-30 20:44:16 -0500 (Thu, 30 Jan 2025) EndedAt: 2025-01-30 20:47:04 -0500 (Thu, 30 Jan 2025) EllapsedTime: 167.7 seconds RetCode: 0 Status: OK PackageFile: mirIntegrator_1.36.0.tar.gz PackageFileSize: 1.808 MiB