Package: mirIntegrator Version: 1.36.0 Command: /Library/Frameworks/R.framework/Resources/bin/R CMD build --keep-empty-dirs --no-resave-data mirIntegrator StartedAt: 2025-04-01 03:12:46 -0400 (Tue, 01 Apr 2025) EndedAt: 2025-04-01 03:14:05 -0400 (Tue, 01 Apr 2025) EllapsedTime: 78.9 seconds RetCode: 0 Status: OK PackageFile: mirIntegrator_1.36.0.tar.gz PackageFileSize: 1.808 MiB