Package: mirIntegrator Version: 1.36.0 Command: rm -rf mirIntegrator.buildbin-libdir && mkdir mirIntegrator.buildbin-libdir && /Users/biocbuild/BBS/utils/build-universal.sh mirIntegrator_1.36.0.tar.gz /Library/Frameworks/R.framework/Resources/bin/R mirIntegrator.buildbin-libdir StartedAt: 2025-01-29 15:28:52 -0500 (Wed, 29 Jan 2025) EndedAt: 2025-01-29 15:29:12 -0500 (Wed, 29 Jan 2025) EllapsedTime: 20.5 seconds RetCode: 0 Status: OK PackageFile: mirIntegrator_1.36.0.tgz PackageFileSize: 1.843 MiB