Package: minet Version: 3.64.0 Command: /home/biocbuild/bbs-3.20-bioc/R/bin/R CMD INSTALL minet StartedAt: 2025-02-03 16:03:26 -0500 (Mon, 03 Feb 2025) EndedAt: 2025-02-03 16:03:31 -0500 (Mon, 03 Feb 2025) EllapsedTime: 5.2 seconds RetCode: 0 Status: OK