Package: minet Version: 3.64.0 Command: /Library/Frameworks/R.framework/Resources/bin/R CMD build --keep-empty-dirs --no-resave-data minet StartedAt: 2025-01-27 20:30:38 -0500 (Mon, 27 Jan 2025) EndedAt: 2025-01-27 20:30:40 -0500 (Mon, 27 Jan 2025) EllapsedTime: 2.0 seconds RetCode: 0 Status: OK PackageFile: minet_3.64.0.tar.gz PackageFileSize: 50.14 KiB