Package: mina Version: 1.14.0 Command: /Library/Frameworks/R.framework/Resources/bin/R CMD check --install=check:mina.install-out.txt --library=/Library/Frameworks/R.framework/Resources/library --no-vignettes --timings mina_1.14.0.tar.gz StartedAt: 2025-01-29 01:02:29 -0500 (Wed, 29 Jan 2025) EndedAt: 2025-01-29 01:07:05 -0500 (Wed, 29 Jan 2025) EllapsedTime: 276.0 seconds RetCode: 0 Status: WARNINGS CheckDir: mina.Rcheck Warnings: 1