Package: mina Version: 1.14.0 Command: rm -rf mina.buildbin-libdir && mkdir mina.buildbin-libdir && /Users/biocbuild/BBS/utils/build-universal.sh mina_1.14.0.tar.gz /Library/Frameworks/R.framework/Resources/bin/R mina.buildbin-libdir StartedAt: 2025-01-29 15:27:37 -0500 (Wed, 29 Jan 2025) EndedAt: 2025-01-29 15:28:18 -0500 (Wed, 29 Jan 2025) EllapsedTime: 40.8 seconds RetCode: 0 Status: OK PackageFile: mina_1.14.0.tgz PackageFileSize: 7.661 MiB