Package: mimager Version: 1.30.0 Command: rm -rf mimager.buildbin-libdir && mkdir mimager.buildbin-libdir && /Users/biocbuild/BBS/utils/build-universal.sh mimager_1.30.0.tar.gz /Library/Frameworks/R.framework/Resources/bin/R mimager.buildbin-libdir StartedAt: 2025-04-01 12:14:31 -0400 (Tue, 01 Apr 2025) EndedAt: 2025-04-01 12:15:29 -0400 (Tue, 01 Apr 2025) EllapsedTime: 58.2 seconds RetCode: 0 Status: OK PackageFile: mimager_1.30.0.tgz PackageFileSize: 1.031 MiB