Package: miloR Version: 2.2.0 Command: /home/biocbuild/R/R/bin/R CMD INSTALL miloR StartedAt: 2025-01-27 21:56:04 -0000 (Mon, 27 Jan 2025) EndedAt: 2025-01-27 21:59:25 -0000 (Mon, 27 Jan 2025) EllapsedTime: 201.3 seconds RetCode: 0 Status: OK