Package: miloR Version: 2.2.0 Command: /home/biocbuild/R/R/bin/R CMD build --keep-empty-dirs --no-resave-data miloR StartedAt: 2025-01-28 01:33:21 -0000 (Tue, 28 Jan 2025) EndedAt: 2025-01-28 01:53:40 -0000 (Tue, 28 Jan 2025) EllapsedTime: 1219.5 seconds RetCode: 0 Status: OK PackageFile: miloR_2.2.0.tar.gz PackageFileSize: 6.104 MiB