Package: miloR Version: 2.2.0 Command: F:\biocbuild\bbs-3.20-bioc\R\bin\R.exe CMD check --no-multiarch --install=check:miloR.install-out.txt --library=F:\biocbuild\bbs-3.20-bioc\R\library --no-vignettes --timings miloR_2.2.0.tar.gz StartedAt: 2025-01-28 03:28:51 -0500 (Tue, 28 Jan 2025) EndedAt: 2025-01-28 03:38:14 -0500 (Tue, 28 Jan 2025) EllapsedTime: 563.1 seconds RetCode: 0 Status: OK CheckDir: miloR.Rcheck Warnings: 0