Package: miloR Version: 2.2.0 Command: /home/biocbuild/bbs-3.20-bioc/R/bin/R CMD INSTALL miloR StartedAt: 2025-01-27 16:46:16 -0500 (Mon, 27 Jan 2025) EndedAt: 2025-01-27 16:48:53 -0500 (Mon, 27 Jan 2025) EllapsedTime: 157.1 seconds RetCode: 0 Status: OK