Package: miloR Version: 2.2.0 Command: /home/biocbuild/bbs-3.20-bioc/R/bin/R CMD build --keep-empty-dirs --no-resave-data --md5 miloR StartedAt: 2025-02-03 18:13:17 -0500 (Mon, 03 Feb 2025) EndedAt: 2025-02-03 18:29:08 -0500 (Mon, 03 Feb 2025) EllapsedTime: 951.0 seconds RetCode: 0 Status: OK PackageFile: miloR_2.2.0.tar.gz PackageFileSize: 7.179 MiB