Package: miloR Version: 2.2.0 Command: /Library/Frameworks/R.framework/Resources/bin/R CMD check --install=check:miloR.install-out.txt --library=/Library/Frameworks/R.framework/Resources/library --no-vignettes --timings miloR_2.2.0.tar.gz StartedAt: 2025-01-28 06:34:07 -0500 (Tue, 28 Jan 2025) EndedAt: 2025-01-28 06:51:07 -0500 (Tue, 28 Jan 2025) EllapsedTime: 1019.4 seconds RetCode: 0 Status: OK CheckDir: miloR.Rcheck Warnings: 0