Package: miloR Version: 2.2.0 Command: rm -rf miloR.buildbin-libdir && mkdir miloR.buildbin-libdir && /Users/biocbuild/BBS/utils/build-universal.sh miloR_2.2.0.tar.gz /Library/Frameworks/R.framework/Resources/bin/R miloR.buildbin-libdir StartedAt: 2025-01-28 13:42:05 -0500 (Tue, 28 Jan 2025) EndedAt: 2025-01-28 13:50:36 -0500 (Tue, 28 Jan 2025) EllapsedTime: 510.8 seconds RetCode: 0 Status: OK PackageFile: miloR_2.2.0.tgz PackageFileSize: 7.294 MiB