Package: miloR Version: 2.2.0 Command: /Library/Frameworks/R.framework/Resources/bin/R CMD INSTALL miloR StartedAt: 2024-11-19 15:40:47 -0500 (Tue, 19 Nov 2024) EndedAt: 2024-11-19 15:43:13 -0500 (Tue, 19 Nov 2024) EllapsedTime: 146.5 seconds RetCode: 0 Status: OK