Package: miloR Version: 2.2.0 Command: /Library/Frameworks/R.framework/Resources/bin/R CMD build --keep-empty-dirs --no-resave-data miloR StartedAt: 2024-11-19 17:37:16 -0500 (Tue, 19 Nov 2024) EndedAt: 2024-11-19 17:56:38 -0500 (Tue, 19 Nov 2024) EllapsedTime: 1162.0 seconds RetCode: 1 Status: ERROR PackageFile: None PackageFileSize: NA