Package: miloR Version: 2.2.0 Command: /Library/Frameworks/R.framework/Resources/bin/R CMD build --keep-empty-dirs --no-resave-data miloR StartedAt: 2025-01-28 03:18:44 -0500 (Tue, 28 Jan 2025) EndedAt: 2025-01-28 03:40:00 -0500 (Tue, 28 Jan 2025) EllapsedTime: 1275.1 seconds RetCode: 0 Status: OK PackageFile: miloR_2.2.0.tar.gz PackageFileSize: 7.727 MiB