Package: midasHLA Version: 1.14.0 Command: /Library/Frameworks/R.framework/Resources/bin/R CMD INSTALL midasHLA StartedAt: 2025-01-27 16:23:12 -0500 (Mon, 27 Jan 2025) EndedAt: 2025-01-27 16:24:23 -0500 (Mon, 27 Jan 2025) EllapsedTime: 71.1 seconds RetCode: 0 Status: OK