Package: microbiomeMarker Version: 1.12.0 Command: F:\biocbuild\bbs-3.20-bioc\R\bin\R.exe CMD INSTALL microbiomeMarker StartedAt: 2025-02-03 16:34:15 -0500 (Mon, 03 Feb 2025) EndedAt: 2025-02-03 16:36:19 -0500 (Mon, 03 Feb 2025) EllapsedTime: 124.0 seconds RetCode: 0 Status: OK