Package: microbiomeMarker Version: 1.12.2 Command: /home/biocbuild/bbs-3.20-bioc/R/bin/R CMD INSTALL microbiomeMarker StartedAt: 2025-03-31 15:50:47 -0400 (Mon, 31 Mar 2025) EndedAt: 2025-03-31 15:51:33 -0400 (Mon, 31 Mar 2025) EllapsedTime: 45.8 seconds RetCode: 0 Status: OK