Package: microbiomeMarker Version: 1.12.2 Command: /Library/Frameworks/R.framework/Resources/bin/R CMD INSTALL microbiomeMarker StartedAt: 2025-03-31 17:36:43 -0400 (Mon, 31 Mar 2025) EndedAt: 2025-03-31 17:37:38 -0400 (Mon, 31 Mar 2025) EllapsedTime: 54.8 seconds RetCode: 0 Status: OK