Package: microbiomeMarker Version: 1.12.0 Command: rm -rf microbiomeMarker.buildbin-libdir && mkdir microbiomeMarker.buildbin-libdir && /Users/biocbuild/BBS/utils/build-universal.sh microbiomeMarker_1.12.0.tar.gz /Library/Frameworks/R.framework/Resources/bin/R microbiomeMarker.buildbin-libdir StartedAt: 2025-02-05 16:39:12 -0500 (Wed, 05 Feb 2025) EndedAt: 2025-02-05 16:40:14 -0500 (Wed, 05 Feb 2025) EllapsedTime: 62.1 seconds RetCode: 0 Status: OK PackageFile: microbiomeMarker_1.12.0.tgz PackageFileSize: 3.747 MiB