Package: microbiomeExplorer Version: 1.16.0 Command: /Library/Frameworks/R.framework/Resources/bin/R CMD check --install=check:microbiomeExplorer.install-out.txt --library=/Library/Frameworks/R.framework/Resources/library --no-vignettes --timings microbiomeExplorer_1.16.0.tar.gz StartedAt: 2025-01-29 00:50:30 -0500 (Wed, 29 Jan 2025) EndedAt: 2025-01-29 00:52:20 -0500 (Wed, 29 Jan 2025) EllapsedTime: 109.9 seconds RetCode: 0 Status: OK CheckDir: microbiomeExplorer.Rcheck Warnings: 0