Package: microbiomeExplorer Version: 1.16.0 Command: /Library/Frameworks/R.framework/Resources/bin/R CMD build --keep-empty-dirs --no-resave-data microbiomeExplorer StartedAt: 2025-01-28 03:16:41 -0500 (Tue, 28 Jan 2025) EndedAt: 2025-01-28 03:17:23 -0500 (Tue, 28 Jan 2025) EllapsedTime: 42.1 seconds RetCode: 0 Status: OK PackageFile: microbiomeExplorer_1.16.0.tar.gz PackageFileSize: 2.976 MiB