Package: microbiomeExplorer Version: 1.16.0 Command: rm -rf microbiomeExplorer.buildbin-libdir && mkdir microbiomeExplorer.buildbin-libdir && /Users/biocbuild/BBS/utils/build-universal.sh microbiomeExplorer_1.16.0.tar.gz /Library/Frameworks/R.framework/Resources/bin/R microbiomeExplorer.buildbin-libdir StartedAt: 2025-04-02 15:09:51 -0400 (Wed, 02 Apr 2025) EndedAt: 2025-04-02 15:10:09 -0400 (Wed, 02 Apr 2025) EllapsedTime: 18.3 seconds RetCode: 0 Status: OK PackageFile: microbiomeExplorer_1.16.0.tgz PackageFileSize: 3.41 MiB