Package: microbiomeDASim Version: 1.20.0 Command: /home/biocbuild/R/R/bin/R CMD INSTALL microbiomeDASim StartedAt: 2025-02-03 21:10:43 -0000 (Mon, 03 Feb 2025) EndedAt: 2025-02-03 21:11:08 -0000 (Mon, 03 Feb 2025) EllapsedTime: 24.7 seconds RetCode: 0 Status: OK