Package: microbiomeDASim Version: 1.20.0 Command: F:\biocbuild\bbs-3.20-bioc\R\bin\R.exe CMD INSTALL microbiomeDASim StartedAt: 2025-03-31 16:46:19 -0400 (Mon, 31 Mar 2025) EndedAt: 2025-03-31 16:47:05 -0400 (Mon, 31 Mar 2025) EllapsedTime: 46.0 seconds RetCode: 0 Status: OK