Package: microbiomeDASim Version: 1.20.0 Command: /Library/Frameworks/R.framework/Resources/bin/R CMD INSTALL microbiomeDASim StartedAt: 2025-03-31 16:18:43 -0400 (Mon, 31 Mar 2025) EndedAt: 2025-03-31 16:19:26 -0400 (Mon, 31 Mar 2025) EllapsedTime: 42.6 seconds RetCode: 0 Status: OK