Package: microSTASIS Version: 1.6.0 Command: F:\biocbuild\bbs-3.20-bioc\R\bin\R.exe CMD INSTALL microSTASIS StartedAt: 2025-01-30 16:06:17 -0500 (Thu, 30 Jan 2025) EndedAt: 2025-01-30 16:06:29 -0500 (Thu, 30 Jan 2025) EllapsedTime: 11.9 seconds RetCode: 0 Status: OK