Package: microSTASIS Version: 1.6.0 Command: /Library/Frameworks/R.framework/Resources/bin/R CMD build --keep-empty-dirs --no-resave-data microSTASIS StartedAt: 2024-11-08 18:07:23 -0500 (Fri, 08 Nov 2024) EndedAt: 2024-11-08 18:08:00 -0500 (Fri, 08 Nov 2024) EllapsedTime: 36.4 seconds RetCode: 0 Status: OK PackageFile: microSTASIS_1.6.0.tar.gz PackageFileSize: 1.42 MiB